BEGIN:VCALENDAR
VERSION:2.0
PRODID:-//eventon.com NONSGML v1.0//EN
BEGIN:VEVENT
UID:69e75fd78f72f
DTSTAMP:20260421T133031
DTSTART:20261019T180000Z
DTEND:20261019T200000Z
TZID:Europe/Berlin
LOCATION:Neckar Forum 
SUMMARY:Symphoniacs
DESCRIPTION: Als Grenzgänger zwischen Klassik und Elektronik verwandeln international gefeierte Solisten an Violine\,  Cello\,  Klavier und Elektronik klassische Werke in rauschhafte Live-Erlebnisse. Wenn Streicherläufe auf druckvolle Beats treffen\,  entsteht Musik\,  die man hört und spürt. London\,  Paris\,  Tokio\,  New York\,  Los Angeles\,  Berlin und Wien – bei jedem Konzertauftritt verbinden sie[..]\nhttps://esslingenlive.de/kalender/symphoniacs/
URL:https://esslingenlive.de/kalender/symphoniacs/
END:VEVENT
END:VCALENDAR